BEGIN:VCALENDAR
CALSCALE:GREGORIAN
X-WR-TIMEZONE;VALUE=TEXT:GMT
PRODID:PEAK Corporation - piCal -
X-WR-CALNAME;VALUE=TEXT:おくもの　みらいを　語りましょう
VERSION:2.0
METHOD:PUBLISH
BEGIN:VTIMEZONE
TZID:GMT
BEGIN:STANDARD
DTSTART:19390101T000000
TZOFFSETFROM:+0000
TZOFFSETTO:+0000
TZNAME:GMT
END:STANDARD
END:VTIMEZONE
BEGIN:VEVENT
DTSTART:20160625T010000Z
DTEND:20160625T030000Z
LOCATION:旧大芋小学校
TRANSP:OPAQUE
SEQUENCE:0
UID:pical060-7927bc744e1c973c6996975574dcb42c
DTSTAMP:20160617T134731Z
CATEGORIES:地域の活動
DESCRIPTION:大芋小学校跡地活用についてワークショップを行います\n参加対象者は高校生までの子と親です。\nアドバイザーに丹波の森研究所の横山宜致さんにお願いしています。\nここで出された意見は跡地活用の参考にしていきます。\n
SUMMARY:おくもの　みらいを　語りましょう
PRIORITY:0
CLASS:PUBLIC
END:VEVENT
END:VCALENDAR
