BEGIN:VCALENDAR
CALSCALE:GREGORIAN
X-WR-TIMEZONE;VALUE=TEXT:GMT
PRODID:PEAK Corporation - piCal -
X-WR-CALNAME;VALUE=TEXT:第２４回　大芋文化祭
VERSION:2.0
METHOD:PUBLISH
BEGIN:VTIMEZONE
TZID:GMT
BEGIN:STANDARD
DTSTART:19390101T000000
TZOFFSETFROM:+0000
TZOFFSETTO:+0000
TZNAME:GMT
END:STANDARD
END:VTIMEZONE
BEGIN:VEVENT
DTSTART:20151108T010000Z
DTEND:20151108T070000Z
LOCATION:大芋公民館
TRANSP:OPAQUE
SEQUENCE:0
UID:pical060-20a9073a360a4ca5a478291eb1740b06
DTSTAMP:20151101T113729Z
CATEGORIES:地域の活動
DESCRIPTION:
SUMMARY:第２４回　大芋文化祭
PRIORITY:0
CLASS:PUBLIC
END:VEVENT
END:VCALENDAR
