BEGIN:VCALENDAR
CALSCALE:GREGORIAN
X-WR-TIMEZONE;VALUE=TEXT:GMT
PRODID:PEAK Corporation - piCal -
X-WR-CALNAME;VALUE=TEXT:福祉部会
VERSION:2.0
METHOD:PUBLISH
BEGIN:VTIMEZONE
TZID:GMT
BEGIN:STANDARD
DTSTART:19390101T000000
TZOFFSETFROM:+0000
TZOFFSETTO:+0000
TZNAME:GMT
END:STANDARD
END:VTIMEZONE
BEGIN:VEVENT
DTSTART:20150806T103000Z
DTEND:20150806T123000Z
LOCATION:大芋公民館
TRANSP:OPAQUE
SEQUENCE:0
UID:pical060-8afaa38b3dd938cf4a90234b58dbaeab
DTSTAMP:20150723T050525Z
CATEGORIES:大芋公民館施設利用
DESCRIPTION:
SUMMARY:福祉部会
PRIORITY:0
CLASS:PUBLIC
END:VEVENT
END:VCALENDAR
