BEGIN:VCALENDAR
CALSCALE:GREGORIAN
X-WR-TIMEZONE;VALUE=TEXT:GMT
PRODID:PEAK Corporation - piCal -
X-WR-CALNAME;VALUE=TEXT:ゆる　フリマ
VERSION:2.0
METHOD:PUBLISH
BEGIN:VTIMEZONE
TZID:GMT
BEGIN:STANDARD
DTSTART:19390101T000000
TZOFFSETFROM:+0000
TZOFFSETTO:+0000
TZNAME:GMT
END:STANDARD
END:VTIMEZONE
BEGIN:VEVENT
DTSTART:20150419T010000Z
DTEND:20150419T070000Z
LOCATION:なかの里
TRANSP:OPAQUE
SEQUENCE:0
UID:pical060-dc383b6198ee485aca087760efd3ac2c
DTSTAMP:20150416T062522Z
CATEGORIES:地域の活動
DESCRIPTION:
SUMMARY:ゆる　フリマ
PRIORITY:0
CLASS:PUBLIC
END:VEVENT
END:VCALENDAR
