BEGIN:VCALENDAR
CALSCALE:GREGORIAN
X-WR-TIMEZONE;VALUE=TEXT:GMT
PRODID:PEAK Corporation - piCal -
X-WR-CALNAME;VALUE=TEXT:雨石連山−ひかげつつじを見に行こう！
VERSION:2.0
METHOD:PUBLISH
BEGIN:VTIMEZONE
TZID:GMT
BEGIN:STANDARD
DTSTART:19390101T000000
TZOFFSETFROM:+0000
TZOFFSETTO:+0000
TZNAME:GMT
END:STANDARD
END:VTIMEZONE
BEGIN:VEVENT
DTSTART:20150425T000000Z
DTEND:20150425T060000Z
LOCATION:小原自然公園に集合
TRANSP:OPAQUE
SEQUENCE:0
UID:pical060-daab49dc423429e9555d20edce4fb98c
DTSTAMP:20150321T043056Z
CATEGORIES:地域の活動
DESCRIPTION:毘沙門ルートでの登山を計画\n
SUMMARY:雨石連山−ひかげつつじを見に行こう！
PRIORITY:0
CLASS:PUBLIC
END:VEVENT
END:VCALENDAR
