BEGIN:VCALENDAR
CALSCALE:GREGORIAN
X-WR-TIMEZONE;VALUE=TEXT:GMT
PRODID:PEAK Corporation - piCal -
X-WR-CALNAME;VALUE=TEXT:（小）大芋小学校卒業式
VERSION:2.0
METHOD:PUBLISH
BEGIN:VTIMEZONE
TZID:GMT
BEGIN:STANDARD
DTSTART:19390101T000000
TZOFFSETFROM:+0000
TZOFFSETTO:+0000
TZNAME:GMT
END:STANDARD
END:VTIMEZONE
BEGIN:VEVENT
DTSTART:20150323T000000Z
DTEND:20150323T030000Z
LOCATION:大芋小学校
TRANSP:OPAQUE
SEQUENCE:0
UID:pical060-6fe64e62504028ea82dc51325977d76d
DTSTAMP:20150302T050944Z
CATEGORIES:地域の活動
DESCRIPTION:
SUMMARY:（小）大芋小学校卒業式
PRIORITY:0
CLASS:PUBLIC
END:VEVENT
END:VCALENDAR
