BEGIN:VCALENDAR
CALSCALE:GREGORIAN
X-WR-TIMEZONE;VALUE=TEXT:GMT
PRODID:PEAK Corporation - piCal -
X-WR-CALNAME;VALUE=TEXT:活性化委員会役員会
VERSION:2.0
METHOD:PUBLISH
BEGIN:VTIMEZONE
TZID:GMT
BEGIN:STANDARD
DTSTART:19390101T000000
TZOFFSETFROM:+0000
TZOFFSETTO:+0000
TZNAME:GMT
END:STANDARD
END:VTIMEZONE
BEGIN:VEVENT
DTSTART:20150313T103000Z
DTEND:20150313T123000Z
LOCATION:大芋公民館
TRANSP:OPAQUE
SEQUENCE:0
UID:pical060-66fdab51628a3f8ac6c343b6199e81bc
DTSTAMP:20150302T045945Z
CATEGORIES:大芋公民館施設利用
DESCRIPTION:
SUMMARY:活性化委員会役員会
PRIORITY:0
CLASS:PUBLIC
END:VEVENT
END:VCALENDAR
