BEGIN:VCALENDAR
CALSCALE:GREGORIAN
X-WR-TIMEZONE;VALUE=TEXT:GMT
PRODID:PEAK Corporation - piCal -
X-WR-CALNAME;VALUE=TEXT:大芋地区人権・同和教育研究大会
VERSION:2.0
METHOD:PUBLISH
BEGIN:VTIMEZONE
TZID:GMT
BEGIN:STANDARD
DTSTART:19390101T000000
TZOFFSETFROM:+0000
TZOFFSETTO:+0000
TZNAME:GMT
END:STANDARD
END:VTIMEZONE
BEGIN:VEVENT
DTSTART:20150306T103000Z
DTEND:20150306T123000Z
LOCATION:大芋公民館
TRANSP:OPAQUE
SEQUENCE:0
UID:pical060-f84d71660fbafbc0698744d53369e013
DTSTAMP:20150302T045513Z
CATEGORIES:大芋公民館施設利用
DESCRIPTION:
SUMMARY:大芋地区人権・同和教育研究大会
PRIORITY:0
CLASS:PUBLIC
END:VEVENT
END:VCALENDAR
