BEGIN:VCALENDAR
CALSCALE:GREGORIAN
X-WR-TIMEZONE;VALUE=TEXT:GMT
PRODID:PEAK Corporation - piCal -
X-WR-CALNAME;VALUE=TEXT:（ス２１）八ヶ尾登山
VERSION:2.0
METHOD:PUBLISH
BEGIN:VTIMEZONE
TZID:GMT
BEGIN:STANDARD
DTSTART:19390101T000000
TZOFFSETFROM:+0000
TZOFFSETTO:+0000
TZNAME:GMT
END:STANDARD
END:VTIMEZONE
BEGIN:VEVENT
DTSTART:20150329T000000Z
DTEND:20150329T060000Z
LOCATION:
TRANSP:OPAQUE
SEQUENCE:0
UID:pical060-dbbd4371aca37fe21609a314581e0c8a
DTSTAMP:20150221T085804Z
CATEGORIES:地域の活動
DESCRIPTION:
SUMMARY:（ス２１）八ヶ尾登山
PRIORITY:0
CLASS:PUBLIC
END:VEVENT
END:VCALENDAR
