BEGIN:VCALENDAR
CALSCALE:GREGORIAN
X-WR-TIMEZONE;VALUE=TEXT:GMT
PRODID:PEAK Corporation - piCal -
X-WR-CALNAME;VALUE=TEXT:生きがいデイサービス
VERSION:2.0
METHOD:PUBLISH
BEGIN:VTIMEZONE
TZID:GMT
BEGIN:STANDARD
DTSTART:19390101T000000
TZOFFSETFROM:+0000
TZOFFSETTO:+0000
TZNAME:GMT
END:STANDARD
END:VTIMEZONE
BEGIN:VEVENT
DTSTART:20150120T043000Z
DTEND:20150120T063000Z
LOCATION:大芋公民館
TRANSP:OPAQUE
SEQUENCE:0
UID:pical060-0f9b32c60d7b02b2f69dece4b00beae0
DTSTAMP:20150116T061028Z
CATEGORIES:地域の活動
DESCRIPTION:
SUMMARY:生きがいデイサービス
PRIORITY:0
CLASS:PUBLIC
END:VEVENT
END:VCALENDAR
