BEGIN:VCALENDAR
CALSCALE:GREGORIAN
X-WR-TIMEZONE;VALUE=TEXT:GMT
PRODID:PEAK Corporation - piCal -
X-WR-CALNAME;VALUE=TEXT:ウォークラリー
VERSION:2.0
METHOD:PUBLISH
BEGIN:VTIMEZONE
TZID:GMT
BEGIN:STANDARD
DTSTART:19390101T000000
TZOFFSETFROM:+0000
TZOFFSETTO:+0000
TZNAME:GMT
END:STANDARD
END:VTIMEZONE
BEGIN:VEVENT
DTSTART:20130317T000000Z
DTEND:20130317T080000Z
LOCATION:
TRANSP:OPAQUE
SEQUENCE:0
UID:pical060-cbe69e6082dcb88e91eb7dc341a378a8
DTSTAMP:20130124T111544Z
CATEGORIES:
DESCRIPTION:
SUMMARY:ウォークラリー
PRIORITY:0
CLASS:PUBLIC
END:VEVENT
END:VCALENDAR
