BEGIN:VCALENDAR
CALSCALE:GREGORIAN
X-WR-TIMEZONE;VALUE=TEXT:GMT
PRODID:PEAK Corporation - piCal -
X-WR-CALNAME;VALUE=TEXT:活性化委員会
VERSION:2.0
METHOD:PUBLISH
BEGIN:VTIMEZONE
TZID:GMT
BEGIN:STANDARD
DTSTART:19390101T000000
TZOFFSETFROM:+0000
TZOFFSETTO:+0000
TZNAME:GMT
END:STANDARD
END:VTIMEZONE
BEGIN:VEVENT
DTSTART:20130123T100000Z
DTEND:20130123T103000Z
LOCATION:大芋公民館
TRANSP:OPAQUE
SEQUENCE:0
UID:pical060-f6e132dbc8f53d731db5f4cf09de2406
DTSTAMP:20130115T071025Z
CATEGORIES:大芋公民館施設利用
DESCRIPTION:1.福祉アンケートの結果について\n2.案内看板・マップについて\n3.ウォークラリーについて\n4.男性料理教室について\n5.その他\n
SUMMARY:活性化委員会
PRIORITY:0
CLASS:PUBLIC
END:VEVENT
END:VCALENDAR
