BEGIN:VCALENDAR
CALSCALE:GREGORIAN
X-WR-TIMEZONE;VALUE=TEXT:GMT
PRODID:PEAK Corporation - piCal -
X-WR-CALNAME;VALUE=TEXT:大芋活性化委員会福祉部会
VERSION:2.0
METHOD:PUBLISH
BEGIN:VTIMEZONE
TZID:GMT
BEGIN:STANDARD
DTSTART:19390101T000000
TZOFFSETFROM:+0000
TZOFFSETTO:+0000
TZNAME:GMT
END:STANDARD
END:VTIMEZONE
BEGIN:VEVENT
DTSTART:20121123T103000Z
DTEND:20121123T130000Z
LOCATION:大芋公民館
TRANSP:OPAQUE
SEQUENCE:0
UID:pical060-d5316608906e4a829e2965fa12ac3334
DTSTAMP:20121111T121245Z
CATEGORIES:大芋公民館施設利用
DESCRIPTION:
SUMMARY:大芋活性化委員会福祉部会
PRIORITY:0
CLASS:PUBLIC
END:VEVENT
END:VCALENDAR
