BEGIN:VCALENDAR
CALSCALE:GREGORIAN
X-WR-TIMEZONE;VALUE=TEXT:GMT
PRODID:PEAK Corporation - piCal -
X-WR-CALNAME;VALUE=TEXT:生きがいデイサービス
VERSION:2.0
METHOD:PUBLISH
BEGIN:VTIMEZONE
TZID:GMT
BEGIN:STANDARD
DTSTART:19390101T000000
TZOFFSETFROM:+0000
TZOFFSETTO:+0000
TZNAME:GMT
END:STANDARD
END:VTIMEZONE
BEGIN:VEVENT
DTSTART:20121120T043000Z
DTEND:20121120T063000Z
LOCATION:大芋公民館
TRANSP:OPAQUE
SEQUENCE:0
UID:pical060-0b3d363638f77d32c89449055e611071
DTSTAMP:20121105T143854Z
CATEGORIES:大芋公民館施設利用
DESCRIPTION:
SUMMARY:生きがいデイサービス
PRIORITY:0
CLASS:PUBLIC
END:VEVENT
END:VCALENDAR
