BEGIN:VCALENDAR
CALSCALE:GREGORIAN
X-WR-TIMEZONE;VALUE=TEXT:GMT
PRODID:PEAK Corporation - piCal -
X-WR-CALNAME;VALUE=TEXT:第２回篠山市まちづくり協議会連絡会
VERSION:2.0
METHOD:PUBLISH
BEGIN:VTIMEZONE
TZID:GMT
BEGIN:STANDARD
DTSTART:19390101T000000
TZOFFSETFROM:+0000
TZOFFSETTO:+0000
TZNAME:GMT
END:STANDARD
END:VTIMEZONE
BEGIN:VEVENT
DTSTART:20121113T013000Z
DTEND:20121113T043000Z
LOCATION:大芋公民館
TRANSP:OPAQUE
SEQUENCE:0
UID:pical060-eb4ffb0bd4b79f53d6627e3c90448fce
DTSTAMP:20121105T143508Z
CATEGORIES:大芋公民館施設利用
DESCRIPTION:
SUMMARY:第２回篠山市まちづくり協議会連絡会
PRIORITY:0
CLASS:PUBLIC
END:VEVENT
END:VCALENDAR
