BEGIN:VCALENDAR
CALSCALE:GREGORIAN
X-WR-TIMEZONE;VALUE=TEXT:GMT
PRODID:PEAK Corporation - piCal -
X-WR-CALNAME;VALUE=TEXT:生きがいデイサービス
VERSION:2.0
METHOD:PUBLISH
BEGIN:VTIMEZONE
TZID:GMT
BEGIN:STANDARD
DTSTART:19390101T000000
TZOFFSETFROM:+0000
TZOFFSETTO:+0000
TZNAME:GMT
END:STANDARD
END:VTIMEZONE
BEGIN:VEVENT
DTSTART:20121016T043000Z
DTEND:20121016T063000Z
LOCATION:大芋公民館
TRANSP:OPAQUE
SEQUENCE:0
UID:pical060-38a60029cdf016ececa12c5acd46c0a3
DTSTAMP:20121001T135707Z
CATEGORIES:大芋公民館施設利用
DESCRIPTION:
SUMMARY:生きがいデイサービス
PRIORITY:0
CLASS:PUBLIC
END:VEVENT
END:VCALENDAR
