BEGIN:VCALENDAR
CALSCALE:GREGORIAN
X-WR-TIMEZONE;VALUE=TEXT:GMT
PRODID:PEAK Corporation - piCal -
X-WR-CALNAME;VALUE=TEXT:通学合宿
VERSION:2.0
METHOD:PUBLISH
BEGIN:VTIMEZONE
TZID:GMT
BEGIN:STANDARD
DTSTART:19390101T000000
TZOFFSETFROM:+0000
TZOFFSETTO:+0000
TZNAME:GMT
END:STANDARD
END:VTIMEZONE
BEGIN:VEVENT
DTSTART:20120927T010000Z
DTEND:20120929T030000Z
LOCATION:
TRANSP:OPAQUE
SEQUENCE:0
UID:pical060-254754c3959f188d0e627a2332678a66
DTSTAMP:20120824T112738Z
CATEGORIES:地域の活動
DESCRIPTION:
SUMMARY:通学合宿
PRIORITY:0
CLASS:PUBLIC
END:VEVENT
END:VCALENDAR
