BEGIN:VCALENDAR
CALSCALE:GREGORIAN
X-WR-TIMEZONE;VALUE=TEXT:GMT
PRODID:PEAK Corporation - piCal -
X-WR-CALNAME;VALUE=TEXT:３世代ゲートボール
VERSION:2.0
METHOD:PUBLISH
BEGIN:VTIMEZONE
TZID:GMT
BEGIN:STANDARD
DTSTART:19390101T000000
TZOFFSETFROM:+0000
TZOFFSETTO:+0000
TZNAME:GMT
END:STANDARD
END:VTIMEZONE
BEGIN:VEVENT
DTSTART:20121021T010000Z
DTEND:20121021T060000Z
LOCATION:
TRANSP:OPAQUE
SEQUENCE:0
UID:pical060-f618a61d5833d582572e7dc6f8184f05
DTSTAMP:20120824T112534Z
CATEGORIES:地域の活動
DESCRIPTION:
SUMMARY:３世代ゲートボール
PRIORITY:0
CLASS:PUBLIC
END:VEVENT
END:VCALENDAR
