BEGIN:VCALENDAR
CALSCALE:GREGORIAN
X-WR-TIMEZONE;VALUE=TEXT:GMT
PRODID:PEAK Corporation - piCal -
X-WR-CALNAME;VALUE=TEXT:大芋文化祭
VERSION:2.0
METHOD:PUBLISH
BEGIN:VTIMEZONE
TZID:GMT
BEGIN:STANDARD
DTSTART:19390101T000000
TZOFFSETFROM:+0000
TZOFFSETTO:+0000
TZNAME:GMT
END:STANDARD
END:VTIMEZONE
BEGIN:VEVENT
DTSTART:20121104T000000Z
DTEND:20121104T080000Z
LOCATION:
TRANSP:OPAQUE
SEQUENCE:0
UID:pical060-25969453ba038c97de001cb6697a4169
DTSTAMP:20120824T112419Z
CATEGORIES:地域の活動
DESCRIPTION:
SUMMARY:大芋文化祭
PRIORITY:0
CLASS:PUBLIC
END:VEVENT
END:VCALENDAR
