BEGIN:VCALENDAR
CALSCALE:GREGORIAN
X-WR-TIMEZONE;VALUE=TEXT:GMT
PRODID:PEAK Corporation - piCal -
X-WR-CALNAME;VALUE=TEXT:広報部会
VERSION:2.0
METHOD:PUBLISH
BEGIN:VTIMEZONE
TZID:GMT
BEGIN:STANDARD
DTSTART:19390101T000000
TZOFFSETFROM:+0000
TZOFFSETTO:+0000
TZNAME:GMT
END:STANDARD
END:VTIMEZONE
BEGIN:VEVENT
DTSTART:20121023T103000Z
DTEND:20121023T120000Z
LOCATION:
TRANSP:OPAQUE
SEQUENCE:1
UID:pical060-bb8e4e01b3db5925229ad51a56be3171
DTSTAMP:20120824T112106Z
CATEGORIES:地域の活動
DESCRIPTION:
SUMMARY:広報部会
PRIORITY:0
CLASS:PUBLIC
END:VEVENT
END:VCALENDAR
