BEGIN:VCALENDAR
CALSCALE:GREGORIAN
X-WR-TIMEZONE;VALUE=TEXT:GMT
PRODID:PEAK Corporation - piCal -
X-WR-CALNAME;VALUE=TEXT:公民館運営委員会
VERSION:2.0
METHOD:PUBLISH
BEGIN:VTIMEZONE
TZID:GMT
BEGIN:STANDARD
DTSTART:19390101T000000
TZOFFSETFROM:+0000
TZOFFSETTO:+0000
TZNAME:GMT
END:STANDARD
END:VTIMEZONE
BEGIN:VEVENT
DTSTART:20120921T103000Z
DTEND:20120921T120000Z
LOCATION:
TRANSP:OPAQUE
SEQUENCE:0
UID:pical060-fe1642eb3b90a5bedbc193813b4d7752
DTSTAMP:20120824T111606Z
CATEGORIES:地域の活動
DESCRIPTION:
SUMMARY:公民館運営委員会
PRIORITY:0
CLASS:PUBLIC
END:VEVENT
END:VCALENDAR
