BEGIN:VCALENDAR
CALSCALE:GREGORIAN
X-WR-TIMEZONE;VALUE=TEXT:GMT
PRODID:PEAK Corporation - piCal -
X-WR-CALNAME;VALUE=TEXT:県道篠山京丹波線期成同盟会
VERSION:2.0
METHOD:PUBLISH
BEGIN:VTIMEZONE
TZID:GMT
BEGIN:STANDARD
DTSTART:19390101T000000
TZOFFSETFROM:+0000
TZOFFSETTO:+0000
TZNAME:GMT
END:STANDARD
END:VTIMEZONE
BEGIN:VEVENT
DTSTART:20120827T043000Z
DTEND:20120827T080000Z
LOCATION:京丹波町中央公民館
TRANSP:OPAQUE
SEQUENCE:2
UID:pical060-b0db4d93308ce98c1dde19e4d52e6c64
DTSTAMP:20120822T224602Z
CATEGORIES:地域の活動
DESCRIPTION:
SUMMARY:県道篠山京丹波線期成同盟会
PRIORITY:0
CLASS:PUBLIC
END:VEVENT
END:VCALENDAR
