BEGIN:VCALENDAR
CALSCALE:GREGORIAN
X-WR-TIMEZONE;VALUE=TEXT:GMT
PRODID:PEAK Corporation - piCal -
X-WR-CALNAME;VALUE=TEXT:活性化委員会
VERSION:2.0
METHOD:PUBLISH
BEGIN:VTIMEZONE
TZID:GMT
BEGIN:STANDARD
DTSTART:19390101T000000
TZOFFSETFROM:+0000
TZOFFSETTO:+0000
TZNAME:GMT
END:STANDARD
END:VTIMEZONE
BEGIN:VEVENT
DTSTART:20120823T103000Z
DTEND:20120823T120000Z
LOCATION:大芋公民館
TRANSP:OPAQUE
SEQUENCE:0
UID:pical060-22ec6adadda75164904a456eb9b16090
DTSTAMP:20120810T095247Z
CATEGORIES:地域の活動
DESCRIPTION:
SUMMARY:活性化委員会
PRIORITY:0
CLASS:PUBLIC
END:VEVENT
END:VCALENDAR
