BEGIN:VCALENDAR
CALSCALE:GREGORIAN
X-WR-TIMEZONE;VALUE=TEXT:GMT
PRODID:PEAK Corporation - piCal -
X-WR-CALNAME;VALUE=TEXT:広報部会
VERSION:2.0
METHOD:PUBLISH
BEGIN:VTIMEZONE
TZID:GMT
BEGIN:STANDARD
DTSTART:19390101T000000
TZOFFSETFROM:+0000
TZOFFSETTO:+0000
TZNAME:GMT
END:STANDARD
END:VTIMEZONE
BEGIN:VEVENT
DTSTART:20120717T080000Z
DTEND:20120717T103000Z
LOCATION:大芋公民館
TRANSP:OPAQUE
SEQUENCE:0
UID:pical060-44b3fe23037aa0960ff87d385f34a2f4
DTSTAMP:20120714T044050Z
CATEGORIES:地域の活動
DESCRIPTION:
SUMMARY:広報部会
PRIORITY:0
CLASS:PUBLIC
END:VEVENT
END:VCALENDAR
