BEGIN:VCALENDAR
CALSCALE:GREGORIAN
X-WR-TIMEZONE;VALUE=TEXT:GMT
PRODID:PEAK Corporation - piCal -
X-WR-CALNAME;VALUE=TEXT:丹波ささやま多紀の里　たきまつり
VERSION:2.0
METHOD:PUBLISH
BEGIN:VTIMEZONE
TZID:GMT
BEGIN:STANDARD
DTSTART:19390101T000000
TZOFFSETFROM:+0000
TZOFFSETTO:+0000
TZNAME:GMT
END:STANDARD
END:VTIMEZONE
BEGIN:VEVENT
DTSTART:20120805T020000Z
DTEND:20120805T070000Z
LOCATION:チルドレンミュージアム
TRANSP:OPAQUE
SEQUENCE:2
UID:pical060-1bbb66123727c36c89d54f155d4d7b31
DTSTAMP:20120714T042505Z
CATEGORIES:地域の活動
DESCRIPTION:
SUMMARY:丹波ささやま多紀の里　たきまつり
PRIORITY:0
CLASS:PUBLIC
END:VEVENT
END:VCALENDAR
