BEGIN:VCALENDAR
CALSCALE:GREGORIAN
X-WR-TIMEZONE;VALUE=TEXT:GMT
PRODID:PEAK Corporation - piCal -
X-WR-CALNAME;VALUE=TEXT:大芋の里大体験
VERSION:2.0
METHOD:PUBLISH
BEGIN:VTIMEZONE
TZID:GMT
BEGIN:STANDARD
DTSTART:19390101T000000
TZOFFSETFROM:+0000
TZOFFSETTO:+0000
TZNAME:GMT
END:STANDARD
END:VTIMEZONE
BEGIN:VEVENT
DTSTART:20120728T030000Z
DTEND:20120729T040000Z
LOCATION:大芋の楽農かまど
TRANSP:OPAQUE
SEQUENCE:1
UID:pical060-e92a73c4d4272e50b370435712e6ca72
DTSTAMP:20120714T043154Z
CATEGORIES:地域の活動
DESCRIPTION:
SUMMARY:大芋の里大体験
PRIORITY:0
CLASS:PUBLIC
END:VEVENT
END:VCALENDAR
