BEGIN:VCALENDAR
CALSCALE:GREGORIAN
X-WR-TIMEZONE;VALUE=TEXT:GMT
PRODID:PEAK Corporation - piCal -
X-WR-CALNAME;VALUE=TEXT:生きがい対応型デイサービス大芋
VERSION:2.0
METHOD:PUBLISH
BEGIN:VTIMEZONE
TZID:GMT
BEGIN:STANDARD
DTSTART:19390101T000000
TZOFFSETFROM:+0000
TZOFFSETTO:+0000
TZNAME:GMT
END:STANDARD
END:VTIMEZONE
BEGIN:VEVENT
DTSTART:20110215T043000Z
DTEND:20110215T063000Z
LOCATION:大芋公民館・中会議室
TRANSP:OPAQUE
SEQUENCE:0
UID:pical060-9e523178b1464f852fe9bd239cf9842b
DTSTAMP:20110104T012715Z
CATEGORIES:大芋公民館施設利用
DESCRIPTION:大芋活性化委員会
SUMMARY:生きがい対応型デイサービス大芋
PRIORITY:0
CLASS:PUBLIC
END:VEVENT
END:VCALENDAR
