BEGIN:VCALENDAR
CALSCALE:GREGORIAN
X-WR-TIMEZONE;VALUE=TEXT:GMT
PRODID:PEAK Corporation - piCal -
X-WR-CALNAME;VALUE=TEXT:小西たかのり県政こんだん会
VERSION:2.0
METHOD:PUBLISH
BEGIN:VTIMEZONE
TZID:GMT
BEGIN:STANDARD
DTSTART:19390101T000000
TZOFFSETFROM:+0000
TZOFFSETTO:+0000
TZNAME:GMT
END:STANDARD
END:VTIMEZONE
BEGIN:VEVENT
DTSTART:20110124T093000Z
DTEND:20110124T110000Z
LOCATION:
TRANSP:OPAQUE
SEQUENCE:0
UID:pical060-5785085ac12d5d7289e9c762c9a96456
DTSTAMP:20110104T011542Z
CATEGORIES:大芋公民館施設利用
DESCRIPTION:
SUMMARY:小西たかのり県政こんだん会
PRIORITY:0
CLASS:PUBLIC
END:VEVENT
END:VCALENDAR
