BEGIN:VCALENDAR
CALSCALE:GREGORIAN
X-WR-TIMEZONE;VALUE=TEXT:GMT
PRODID:PEAK Corporation - piCal -
X-WR-CALNAME;VALUE=TEXT:大芋公民館掃除（担当−立金）
VERSION:2.0
METHOD:PUBLISH
BEGIN:VTIMEZONE
TZID:GMT
BEGIN:STANDARD
DTSTART:19390101T000000
TZOFFSETFROM:+0000
TZOFFSETTO:+0000
TZNAME:GMT
END:STANDARD
END:VTIMEZONE
BEGIN:VEVENT
DTSTART:20110110T000000Z
DTEND:20110110T030000Z
LOCATION:大芋公民館
TRANSP:OPAQUE
SEQUENCE:1
UID:pical060-7dd7888ea1da3fb6b252a7bc21981179
DTSTAMP:20110104T011226Z
CATEGORIES:地域の活動
DESCRIPTION:
SUMMARY:大芋公民館掃除（担当−立金）
PRIORITY:0
CLASS:PUBLIC
END:VEVENT
END:VCALENDAR
