BEGIN:VCALENDAR
CALSCALE:GREGORIAN
X-WR-TIMEZONE;VALUE=TEXT:GMT
PRODID:PEAK Corporation - piCal -
X-WR-CALNAME;VALUE=TEXT:生きがい対応型デイサービス大芋
VERSION:2.0
METHOD:PUBLISH
BEGIN:VTIMEZONE
TZID:GMT
BEGIN:STANDARD
DTSTART:19390101T000000
TZOFFSETFROM:+0000
TZOFFSETTO:+0000
TZNAME:GMT
END:STANDARD
END:VTIMEZONE
BEGIN:VEVENT
DTSTART:20110121T043000Z
DTEND:20110121T063000Z
LOCATION:大芋公民館
TRANSP:OPAQUE
SEQUENCE:1
UID:pical060-3c1b6dbd027f936beb1d6289f4152484
DTSTAMP:20110104T010903Z
CATEGORIES:大芋公民館施設利用
DESCRIPTION:
SUMMARY:生きがい対応型デイサービス大芋
PRIORITY:0
CLASS:PUBLIC
END:VEVENT
END:VCALENDAR
