BEGIN:VCALENDAR
CALSCALE:GREGORIAN
X-WR-TIMEZONE;VALUE=TEXT:GMT
PRODID:PEAK Corporation - piCal -
X-WR-CALNAME;VALUE=TEXT:スポーツクラブ２１大芋常任委員会
VERSION:2.0
METHOD:PUBLISH
BEGIN:VTIMEZONE
TZID:GMT
BEGIN:STANDARD
DTSTART:19390101T000000
TZOFFSETFROM:+0000
TZOFFSETTO:+0000
TZNAME:GMT
END:STANDARD
END:VTIMEZONE
BEGIN:VEVENT
DTSTART:20110118T110000Z
DTEND:20110118T130000Z
LOCATION:クラブハウス
TRANSP:OPAQUE
SEQUENCE:0
UID:pical060-4517a053d18254b379c2d986aa7fe228
DTSTAMP:20110104T010709Z
CATEGORIES:地域の活動
DESCRIPTION:
SUMMARY:スポーツクラブ２１大芋常任委員会
PRIORITY:0
CLASS:PUBLIC
END:VEVENT
END:VCALENDAR
