BEGIN:VCALENDAR
CALSCALE:GREGORIAN
X-WR-TIMEZONE;VALUE=TEXT:GMT
PRODID:PEAK Corporation - piCal -
X-WR-CALNAME;VALUE=TEXT:男性料理教室
VERSION:2.0
METHOD:PUBLISH
BEGIN:VTIMEZONE
TZID:GMT
BEGIN:STANDARD
DTSTART:19390101T000000
TZOFFSETFROM:+0000
TZOFFSETTO:+0000
TZNAME:GMT
END:STANDARD
END:VTIMEZONE
BEGIN:VEVENT
DTSTART:20101128T000000Z
DTEND:20101128T040000Z
LOCATION:大芋公民館
TRANSP:OPAQUE
SEQUENCE:1
UID:pical060-f0c270b3d581d8de6bf567598682b9d3
DTSTAMP:20101101T140146Z
CATEGORIES:地域の活動
DESCRIPTION:いずみ会大芋グループの皆さんの指導で美味しいものをつくります。こうご期待！
SUMMARY:男性料理教室
PRIORITY:0
CLASS:PUBLIC
END:VEVENT
END:VCALENDAR
