BEGIN:VCALENDAR
CALSCALE:GREGORIAN
X-WR-TIMEZONE;VALUE=TEXT:GMT
PRODID:PEAK Corporation - piCal -
X-WR-CALNAME;VALUE=TEXT:スポーツ２１大芋常任委員会
VERSION:2.0
METHOD:PUBLISH
BEGIN:VTIMEZONE
TZID:GMT
BEGIN:STANDARD
DTSTART:19390101T000000
TZOFFSETFROM:+0000
TZOFFSETTO:+0000
TZNAME:GMT
END:STANDARD
END:VTIMEZONE
BEGIN:VEVENT
DTSTART:20101121T110000Z
DTEND:20101121T130000Z
LOCATION:クラブハウス
TRANSP:OPAQUE
SEQUENCE:0
UID:pical060-d1f495d89d1dd1f7cd6d8c2d07c72aca
DTSTAMP:20101101T135542Z
CATEGORIES:地域の活動
DESCRIPTION:
SUMMARY:スポーツ２１大芋常任委員会
PRIORITY:0
CLASS:PUBLIC
END:VEVENT
END:VCALENDAR
