BEGIN:VCALENDAR
CALSCALE:GREGORIAN
X-WR-TIMEZONE;VALUE=TEXT:GMT
PRODID:PEAK Corporation - piCal -
X-WR-CALNAME;VALUE=TEXT:生きがい対応型デイサービス大芋
VERSION:2.0
METHOD:PUBLISH
BEGIN:VTIMEZONE
TZID:GMT
BEGIN:STANDARD
DTSTART:19390101T000000
TZOFFSETFROM:+0000
TZOFFSETTO:+0000
TZNAME:GMT
END:STANDARD
END:VTIMEZONE
BEGIN:VEVENT
DTSTART:20101116T043000Z
DTEND:20101116T063000Z
LOCATION:大芋公民館
TRANSP:OPAQUE
SEQUENCE:0
UID:pical060-e1c0ef45b0e794c027cc02f213d46daf
DTSTAMP:20101101T135154Z
CATEGORIES:地域の活動
DESCRIPTION:
SUMMARY:生きがい対応型デイサービス大芋
PRIORITY:0
CLASS:PUBLIC
END:VEVENT
END:VCALENDAR
