BEGIN:VCALENDAR
CALSCALE:GREGORIAN
X-WR-TIMEZONE;VALUE=TEXT:GMT
PRODID:PEAK Corporation - piCal -
X-WR-CALNAME;VALUE=TEXT:大芋文化祭
VERSION:2.0
METHOD:PUBLISH
BEGIN:VTIMEZONE
TZID:GMT
BEGIN:STANDARD
DTSTART:19390101T000000
TZOFFSETFROM:+0000
TZOFFSETTO:+0000
TZNAME:GMT
END:STANDARD
END:VTIMEZONE
BEGIN:VEVENT
DTSTART:20101107T010000Z
DTEND:20101107T070000Z
LOCATION:大芋公民館
TRANSP:OPAQUE
SEQUENCE:0
UID:pical060-abed5eea930c403e184c948dd75d8822
DTSTAMP:20101101T134647Z
CATEGORIES:地域の活動
DESCRIPTION:
SUMMARY:大芋文化祭
PRIORITY:0
CLASS:PUBLIC
END:VEVENT
END:VCALENDAR
