BEGIN:VCALENDAR
CALSCALE:GREGORIAN
X-WR-TIMEZONE;VALUE=TEXT:GMT
PRODID:PEAK Corporation - piCal -
X-WR-CALNAME;VALUE=TEXT:たきまつり実行委員会
VERSION:2.0
METHOD:PUBLISH
BEGIN:VTIMEZONE
TZID:GMT
BEGIN:STANDARD
DTSTART:19390101T000000
TZOFFSETFROM:+0000
TZOFFSETTO:+0000
TZNAME:GMT
END:STANDARD
END:VTIMEZONE
BEGIN:VEVENT
DTSTART:20090619T103000Z
DTEND:20090619T123000Z
LOCATION:チルドレンズミュージアム
TRANSP:OPAQUE
SEQUENCE:0
UID:pical060-f67d6c1f7e4611b2adb5ce7ba2d628cb
DTSTAMP:20090618T115854Z
CATEGORIES:地域の活動
DESCRIPTION:
SUMMARY:たきまつり実行委員会
PRIORITY:0
CLASS:PUBLIC
END:VEVENT
END:VCALENDAR
