BEGIN:VCALENDAR
CALSCALE:GREGORIAN
X-WR-TIMEZONE;VALUE=TEXT:GMT
PRODID:PEAK Corporation - piCal -
X-WR-CALNAME;VALUE=TEXT:小学校リサイクル活動
VERSION:2.0
METHOD:PUBLISH
BEGIN:VTIMEZONE
TZID:GMT
BEGIN:STANDARD
DTSTART:19390101T000000
TZOFFSETFROM:+0000
TZOFFSETTO:+0000
TZNAME:GMT
END:STANDARD
END:VTIMEZONE
BEGIN:VEVENT
DTSTART:20081207T000000Z
DTEND:20081207T080000Z
LOCATION:
TRANSP:OPAQUE
SEQUENCE:0
UID:pical060-77cdd9847cc4e1d1e88afec450b10b56
DTSTAMP:20080703T023557Z
CATEGORIES:地域の活動
DESCRIPTION:
SUMMARY:小学校リサイクル活動
PRIORITY:0
CLASS:PUBLIC
END:VEVENT
END:VCALENDAR
