BEGIN:VCALENDAR
CALSCALE:GREGORIAN
X-WR-TIMEZONE;VALUE=TEXT:GMT
PRODID:PEAK Corporation - piCal -
X-WR-CALNAME;VALUE=TEXT:test2
VERSION:2.0
METHOD:PUBLISH
BEGIN:VTIMEZONE
TZID:GMT
BEGIN:STANDARD
DTSTART:19390101T000000
TZOFFSETFROM:+0000
TZOFFSETTO:+0000
TZNAME:GMT
END:STANDARD
END:VTIMEZONE
BEGIN:VEVENT
DTSTART:20080325T000000Z
DTEND:20080325T080000Z
LOCATION:
TRANSP:OPAQUE
SEQUENCE:0
UID:pical060-48825b27fd3e6f467fe908ecea4a399a
DTSTAMP:20080324T081204Z
CATEGORIES:大芋公民館施設利用
DESCRIPTION:
SUMMARY:test2
PRIORITY:0
CLASS:PUBLIC
END:VEVENT
END:VCALENDAR
